Package: savR Version: 1.36.0 Command: /Library/Frameworks/R.framework/Resources/bin/R CMD check --install=check:savR.install-out.txt --library=/Library/Frameworks/R.framework/Resources/library --no-vignettes --timings savR_1.36.0.tar.gz StartedAt: 2022-11-03 22:16:22 -0400 (Thu, 03 Nov 2022) EndedAt: 2022-11-03 22:17:33 -0400 (Thu, 03 Nov 2022) EllapsedTime: 70.9 seconds RetCode: 0 Status: OK CheckDir: savR.Rcheck Warnings: 0