Package: savR Version: 1.36.0 Command: chmod a+r savR -R && F:\biocbuild\bbs-3.16-bioc\R\bin\R.exe CMD build --keep-empty-dirs --no-resave-data savR StartedAt: 2023-04-10 21:18:59 -0400 (Mon, 10 Apr 2023) EndedAt: 2023-04-10 21:19:16 -0400 (Mon, 10 Apr 2023) EllapsedTime: 17.1 seconds RetCode: 1 Status: ERROR PackageFile: None PackageFileSize: NA