Package: scHOT Version: 1.10.0 Command: /home/biocbuild/bbs-3.16-bioc/R/bin/R CMD check --install=check:scHOT.install-out.txt --library=/home/biocbuild/bbs-3.16-bioc/R/site-library --timings scHOT_1.10.0.tar.gz StartedAt: 2023-04-10 23:46:17 -0400 (Mon, 10 Apr 2023) EndedAt: 2023-04-10 23:57:05 -0400 (Mon, 10 Apr 2023) EllapsedTime: 648.0 seconds RetCode: 0 Status: OK CheckDir: scHOT.Rcheck Warnings: 0