Package: scHOT Version: 1.10.0 Command: rm -rf scHOT.buildbin-libdir && mkdir scHOT.buildbin-libdir && F:\biocbuild\bbs-3.16-bioc\R\bin\R.exe CMD INSTALL --build --library=scHOT.buildbin-libdir scHOT_1.10.0.tar.gz StartedAt: 2023-04-11 08:44:44 -0400 (Tue, 11 Apr 2023) EndedAt: 2023-04-11 08:45:18 -0400 (Tue, 11 Apr 2023) EllapsedTime: 33.7 seconds RetCode: 0 Status: OK PackageFile: scHOT_1.10.0.zip PackageFileSize: 2.229 MiB