Package: scHOT Version: 1.10.0 Command: chmod a+r scHOT -R && F:\biocbuild\bbs-3.16-bioc\R\bin\R.exe CMD build --keep-empty-dirs --no-resave-data scHOT StartedAt: 2023-04-10 21:25:27 -0400 (Mon, 10 Apr 2023) EndedAt: 2023-04-10 21:29:45 -0400 (Mon, 10 Apr 2023) EllapsedTime: 257.6 seconds RetCode: 0 Status: OK PackageFile: scHOT_1.10.0.tar.gz PackageFileSize: 1.859 MiB