Package: scater Version: 1.26.1 Command: /home/biocbuild/bbs-3.16-bioc/R/bin/R CMD INSTALL scater StartedAt: 2023-04-10 15:31:01 -0400 (Mon, 10 Apr 2023) EndedAt: 2023-04-10 15:31:37 -0400 (Mon, 10 Apr 2023) EllapsedTime: 36.3 seconds RetCode: 0 Status: OK