Package: scater Version: 1.26.1 Command: F:\biocbuild\bbs-3.16-bioc\R\bin\R.exe CMD INSTALL scater StartedAt: 2023-04-10 16:14:06 -0400 (Mon, 10 Apr 2023) EndedAt: 2023-04-10 16:14:44 -0400 (Mon, 10 Apr 2023) EllapsedTime: 38.9 seconds RetCode: 0 Status: OK