Package: selectKSigs Version: 1.10.0 Command: /Library/Frameworks/R.framework/Resources/bin/R CMD build --keep-empty-dirs --no-resave-data selectKSigs StartedAt: 2023-04-10 17:59:25 -0400 (Mon, 10 Apr 2023) EndedAt: 2023-04-10 18:00:56 -0400 (Mon, 10 Apr 2023) EllapsedTime: 91.3 seconds RetCode: 0 Status: OK PackageFile: selectKSigs_1.10.0.tar.gz PackageFileSize: 362.5 KiB