Package: sesame Version: 1.16.1 Command: chmod a+r sesame -R && F:\biocbuild\bbs-3.16-bioc\R\bin\R.exe CMD build --keep-empty-dirs --no-resave-data sesame StartedAt: 2023-04-10 21:36:06 -0400 (Mon, 10 Apr 2023) EndedAt: 2023-04-10 21:41:23 -0400 (Mon, 10 Apr 2023) EllapsedTime: 317.3 seconds RetCode: 0 Status: OK PackageFile: sesame_1.16.1.tar.gz PackageFileSize: 18.16 MiB