Package: sesame Version: 1.16.1 Command: F:\biocbuild\bbs-3.16-bioc\R\bin\R.exe CMD check --no-multiarch --install=check:sesame.install-out.txt --library=F:\biocbuild\bbs-3.16-bioc\R\library --no-vignettes --timings sesame_1.16.1.tar.gz StartedAt: 2023-04-11 05:57:46 -0400 (Tue, 11 Apr 2023) EndedAt: 2023-04-11 06:11:57 -0400 (Tue, 11 Apr 2023) EllapsedTime: 850.9 seconds RetCode: 0 Status: OK CheckDir: sesame.Rcheck Warnings: 0