Package: sesame Version: 1.16.1 Command: F:\biocbuild\bbs-3.16-bioc\R\bin\R.exe CMD INSTALL sesame StartedAt: 2023-04-10 16:00:10 -0400 (Mon, 10 Apr 2023) EndedAt: 2023-04-10 16:01:02 -0400 (Mon, 10 Apr 2023) EllapsedTime: 51.3 seconds RetCode: 0 Status: OK