Package: sevenC Version: 1.18.0 Command: chmod a+r sevenC -R && F:\biocbuild\bbs-3.16-bioc\R\bin\R.exe CMD build --keep-empty-dirs --no-resave-data sevenC StartedAt: 2023-04-10 21:36:38 -0400 (Mon, 10 Apr 2023) EndedAt: 2023-04-10 21:38:13 -0400 (Mon, 10 Apr 2023) EllapsedTime: 94.3 seconds RetCode: 0 Status: OK PackageFile: sevenC_1.18.0.tar.gz PackageFileSize: 1.908 MiB