Package: shinyepico Version: 1.5.2 Command: /Library/Frameworks/R.framework/Resources/bin/R CMD INSTALL shinyepico StartedAt: 2022-07-10 18:57:08 -0400 (Sun, 10 Jul 2022) EndedAt: 2022-07-10 18:57:09 -0400 (Sun, 10 Jul 2022) EllapsedTime: 0.6 seconds RetCode: 1 Status: ERROR