Package: shinyepico Version: 1.6.0 Command: rm -rf shinyepico.buildbin-libdir && mkdir shinyepico.buildbin-libdir && /Users/biocbuild/BBS/utils/build-universal.sh shinyepico_1.6.0.tar.gz /Library/Frameworks/R.framework/Resources/bin/R shinyepico.buildbin-libdir StartedAt: 2023-04-11 00:05:02 -0400 (Tue, 11 Apr 2023) EndedAt: 2023-04-11 00:05:10 -0400 (Tue, 11 Apr 2023) EllapsedTime: 7.8 seconds RetCode: 0 Status: OK PackageFile: shinyepico_1.6.0.tgz PackageFileSize: 1.456 MiB