Package: sigFeature Version: 1.15.0 Command: rm -rf sigFeature.buildbin-libdir && mkdir sigFeature.buildbin-libdir && /Users/biocbuild/BBS/utils/build-universal.sh sigFeature_1.15.0.tar.gz /Library/Frameworks/R.framework/Resources/bin/R sigFeature.buildbin-libdir StartedAt: 2022-07-07 09:10:23 -0400 (Thu, 07 Jul 2022) EndedAt: 2022-07-07 09:11:05 -0400 (Thu, 07 Jul 2022) EllapsedTime: 41.3 seconds RetCode: 0 Status: OK PackageFile: sigFeature_1.15.0.tgz PackageFileSize: 463.5 KiB