Package: sscu Version: 2.27.0 Command: /Library/Frameworks/R.framework/Resources/bin/R CMD build --keep-empty-dirs --no-resave-data sscu StartedAt: 2022-07-07 05:48:22 -0400 (Thu, 07 Jul 2022) EndedAt: 2022-07-07 05:48:40 -0400 (Thu, 07 Jul 2022) EllapsedTime: 18.6 seconds RetCode: 0 Status: OK PackageFile: sscu_2.27.0.tar.gz PackageFileSize: 1.287 MiB