Package: sscu Version: 2.28.0 Command: /Library/Frameworks/R.framework/Resources/bin/R CMD build --keep-empty-dirs --no-resave-data sscu StartedAt: 2023-04-10 18:11:13 -0400 (Mon, 10 Apr 2023) EndedAt: 2023-04-10 18:11:29 -0400 (Mon, 10 Apr 2023) EllapsedTime: 15.9 seconds RetCode: 0 Status: OK PackageFile: sscu_2.28.0.tar.gz PackageFileSize: 1.287 MiB