Package: sscu Version: 2.28.0 Command: /home/biocbuild/bbs-3.16-bioc/R/bin/R CMD build --keep-empty-dirs --no-resave-data sscu StartedAt: 2023-04-10 18:21:33 -0400 (Mon, 10 Apr 2023) EndedAt: 2023-04-10 18:21:47 -0400 (Mon, 10 Apr 2023) EllapsedTime: 14.3 seconds RetCode: 0 Status: OK PackageFile: sscu_2.28.0.tar.gz PackageFileSize: 1.287 MiB