Package: sscu Version: 2.28.0 Command: rm -rf sscu.buildbin-libdir && mkdir sscu.buildbin-libdir && F:\biocbuild\bbs-3.16-bioc\R\bin\R.exe CMD INSTALL --build --library=sscu.buildbin-libdir sscu_2.28.0.tar.gz StartedAt: 2023-04-11 08:51:20 -0400 (Tue, 11 Apr 2023) EndedAt: 2023-04-11 08:51:43 -0400 (Tue, 11 Apr 2023) EllapsedTime: 22.9 seconds RetCode: 0 Status: OK PackageFile: sscu_2.28.0.zip PackageFileSize: 1.324 MiB