Package: sscu Version: 2.28.0 Command: chmod a+r sscu -R && F:\biocbuild\bbs-3.16-bioc\R\bin\R.exe CMD build --keep-empty-dirs --no-resave-data sscu StartedAt: 2023-04-10 21:54:25 -0400 (Mon, 10 Apr 2023) EndedAt: 2023-04-10 21:54:45 -0400 (Mon, 10 Apr 2023) EllapsedTime: 19.9 seconds RetCode: 0 Status: OK PackageFile: sscu_2.28.0.tar.gz PackageFileSize: 1.286 MiB