Package: sscu Version: 2.28.0 Command: F:\biocbuild\bbs-3.16-bioc\R\bin\R.exe CMD check --no-multiarch --install=check:sscu.install-out.txt --library=F:\biocbuild\bbs-3.16-bioc\R\library --no-vignettes --timings sscu_2.28.0.tar.gz StartedAt: 2023-04-11 06:26:45 -0400 (Tue, 11 Apr 2023) EndedAt: 2023-04-11 06:28:25 -0400 (Tue, 11 Apr 2023) EllapsedTime: 99.9 seconds RetCode: 0 Status: WARNINGS CheckDir: sscu.Rcheck Warnings: 1