Package: uncoverappLib Version: 1.8.1 Command: /Library/Frameworks/R.framework/Resources/bin/R CMD check --install=check:uncoverappLib.install-out.txt --library=/Library/Frameworks/R.framework/Resources/library --no-vignettes --timings uncoverappLib_1.8.1.tar.gz StartedAt: 2023-04-10 23:15:04 -0400 (Mon, 10 Apr 2023) EndedAt: 2023-04-10 23:20:49 -0400 (Mon, 10 Apr 2023) EllapsedTime: 345.5 seconds RetCode: 0 Status: OK CheckDir: uncoverappLib.Rcheck Warnings: 0