Package: zinbwave Version: 1.20.0 Command: /Library/Frameworks/R.framework/Resources/bin/R CMD check --install=check:zinbwave.install-out.txt --library=/Library/Frameworks/R.framework/Resources/library --no-vignettes --timings zinbwave_1.20.0.tar.gz StartedAt: 2023-04-10 23:22:59 -0400 (Mon, 10 Apr 2023) EndedAt: 2023-04-10 23:26:34 -0400 (Mon, 10 Apr 2023) EllapsedTime: 215.0 seconds RetCode: 0 Status: OK CheckDir: zinbwave.Rcheck Warnings: 0