Package: zinbwave Version: 1.20.0 Command: /Library/Frameworks/R.framework/Resources/bin/R CMD INSTALL zinbwave StartedAt: 2023-04-10 15:26:28 -0400 (Mon, 10 Apr 2023) EndedAt: 2023-04-10 15:27:05 -0400 (Mon, 10 Apr 2023) EllapsedTime: 37.7 seconds RetCode: 0 Status: OK