Package: APAlyzer Version: 1.12.0 Command: /Library/Frameworks/R.framework/Resources/bin/R CMD check --test-dir=longtests --no-stop-on-test-error --no-codoc --no-examples --no-manual --ignore-vignettes --check-subdirs=no APAlyzer_1.12.0.tar.gz StartedAt: 2023-04-15 08:01:34 -0400 (Sat, 15 Apr 2023) EndedAt: 2023-04-15 08:04:43 -0400 (Sat, 15 Apr 2023) EllapsedTime: 188.9 seconds RetCode: 1 Status: ERROR CheckDir: APAlyzer.Rcheck Warnings: NA