Package: APAlyzer Version: 1.12.0 Command: /home/biocbuild/bbs-3.16-bioc/R/bin/R CMD check --test-dir=longtests --no-stop-on-test-error --no-codoc --no-examples --no-manual --ignore-vignettes --check-subdirs=no APAlyzer_1.12.0.tar.gz StartedAt: 2023-04-15 08:00:26 -0400 (Sat, 15 Apr 2023) EndedAt: 2023-04-15 08:03:42 -0400 (Sat, 15 Apr 2023) EllapsedTime: 195.9 seconds RetCode: 1 Status: ERROR CheckDir: APAlyzer.Rcheck Warnings: NA