Package: APAlyzer Version: 1.12.0 Command: chmod a+r APAlyzer -R && F:\biocbuild\bbs-3.16-bioc\R\bin\R.exe CMD build --keep-empty-dirs --no-resave-data --no-build-vignettes --no-manual APAlyzer StartedAt: 2023-04-15 08:02:16 -0400 (Sat, 15 Apr 2023) EndedAt: 2023-04-15 08:02:38 -0400 (Sat, 15 Apr 2023) EllapsedTime: 22.0 seconds RetCode: 0 Status: OK PackageFile: APAlyzer_1.12.0.tar.gz PackageFileSize: 3.155 MiB