Package: APAlyzer Version: 1.12.0 Command: F:\biocbuild\bbs-3.16-bioc\R\bin\R.exe CMD check --no-multiarch --test-dir=longtests --no-stop-on-test-error --no-codoc --no-examples --no-manual --ignore-vignettes --check-subdirs=no APAlyzer_1.12.0.tar.gz StartedAt: 2023-04-15 08:04:43 -0400 (Sat, 15 Apr 2023) EndedAt: 2023-04-15 08:08:27 -0400 (Sat, 15 Apr 2023) EllapsedTime: 223.8 seconds RetCode: 1 Status: ERROR CheckDir: APAlyzer.Rcheck Warnings: NA