Package: ChromSCape Version: 1.8.0 Command: F:\biocbuild\bbs-3.16-bioc\R\bin\R.exe CMD check --no-multiarch --test-dir=longtests --no-stop-on-test-error --no-codoc --no-examples --no-manual --ignore-vignettes --check-subdirs=no ChromSCape_1.8.0.tar.gz StartedAt: 2023-04-15 08:11:56 -0400 (Sat, 15 Apr 2023) EndedAt: 2023-04-15 08:23:07 -0400 (Sat, 15 Apr 2023) EllapsedTime: 671.0 seconds RetCode: 1 Status: ERROR CheckDir: ChromSCape.Rcheck Warnings: NA