Package: biodbHmdb Version: 1.4.0 Command: chmod a+r biodbHmdb -R && F:\biocbuild\bbs-3.16-bioc\R\bin\R.exe CMD build --keep-empty-dirs --no-resave-data --no-build-vignettes --no-manual biodbHmdb StartedAt: 2023-04-15 08:02:16 -0400 (Sat, 15 Apr 2023) EndedAt: 2023-04-15 08:02:28 -0400 (Sat, 15 Apr 2023) EllapsedTime: 11.7 seconds RetCode: 0 Status: OK PackageFile: biodbHmdb_1.4.0.tar.gz PackageFileSize: 113.8 KiB