Package: biodbLipidmaps Version: 1.4.1 Command: /Library/Frameworks/R.framework/Resources/bin/R CMD build --keep-empty-dirs --no-resave-data --no-build-vignettes --no-manual biodbLipidmaps StartedAt: 2023-04-15 08:00:36 -0400 (Sat, 15 Apr 2023) EndedAt: 2023-04-15 08:00:53 -0400 (Sat, 15 Apr 2023) EllapsedTime: 17.0 seconds RetCode: 0 Status: OK PackageFile: biodbLipidmaps_1.4.1.tar.gz PackageFileSize: 15.25 KiB