Package: biodbLipidmaps Version: 1.4.1 Command: /Library/Frameworks/R.framework/Resources/bin/R CMD check --test-dir=longtests --no-stop-on-test-error --no-codoc --no-examples --no-manual --ignore-vignettes --check-subdirs=no biodbLipidmaps_1.4.1.tar.gz StartedAt: 2023-04-15 08:01:34 -0400 (Sat, 15 Apr 2023) EndedAt: 2023-04-15 08:06:25 -0400 (Sat, 15 Apr 2023) EllapsedTime: 290.8 seconds RetCode: 0 Status: OK CheckDir: biodbLipidmaps.Rcheck Warnings: 0