Package: biodbMirbase Version: 1.2.2 Command: /home/biocbuild/bbs-3.16-bioc/R/bin/R CMD build --keep-empty-dirs --no-resave-data --no-build-vignettes --no-manual biodbMirbase StartedAt: 2023-04-15 08:00:13 -0400 (Sat, 15 Apr 2023) EndedAt: 2023-04-15 08:00:14 -0400 (Sat, 15 Apr 2023) EllapsedTime: 0.9 seconds RetCode: 0 Status: OK PackageFile: biodbMirbase_1.2.2.tar.gz PackageFileSize: 12.24 KiB