Package: biodbMirbase Version: 1.2.2 Command: /home/biocbuild/bbs-3.16-bioc/R/bin/R CMD check --test-dir=longtests --no-stop-on-test-error --no-codoc --no-examples --no-manual --ignore-vignettes --check-subdirs=no biodbMirbase_1.2.2.tar.gz StartedAt: 2023-04-15 08:06:47 -0400 (Sat, 15 Apr 2023) EndedAt: 2023-04-15 08:07:24 -0400 (Sat, 15 Apr 2023) EllapsedTime: 37.0 seconds RetCode: 0 Status: OK CheckDir: biodbMirbase.Rcheck Warnings: 0