Package: biodbMirbase Version: 1.2.2 Command: chmod a+r biodbMirbase -R && F:\biocbuild\bbs-3.16-bioc\R\bin\R.exe CMD build --keep-empty-dirs --no-resave-data --no-build-vignettes --no-manual biodbMirbase StartedAt: 2023-04-15 08:02:28 -0400 (Sat, 15 Apr 2023) EndedAt: 2023-04-15 08:03:04 -0400 (Sat, 15 Apr 2023) EllapsedTime: 35.4 seconds RetCode: 0 Status: OK PackageFile: biodbMirbase_1.2.2.tar.gz PackageFileSize: 12.25 KiB