Package: biodbNci Version: 1.2.0 Command: /Library/Frameworks/R.framework/Resources/bin/R CMD build --keep-empty-dirs --no-resave-data --no-build-vignettes --no-manual biodbNci StartedAt: 2023-04-15 08:00:36 -0400 (Sat, 15 Apr 2023) EndedAt: 2023-04-15 08:00:59 -0400 (Sat, 15 Apr 2023) EllapsedTime: 23.0 seconds RetCode: 0 Status: OK PackageFile: biodbNci_1.2.0.tar.gz PackageFileSize: 23.14 KiB