Package: biodbNci Version: 1.2.0 Command: chmod a+r biodbNci -R && F:\biocbuild\bbs-3.16-bioc\R\bin\R.exe CMD build --keep-empty-dirs --no-resave-data --no-build-vignettes --no-manual biodbNci StartedAt: 2023-04-15 08:02:38 -0400 (Sat, 15 Apr 2023) EndedAt: 2023-04-15 08:03:14 -0400 (Sat, 15 Apr 2023) EllapsedTime: 35.1 seconds RetCode: 0 Status: OK PackageFile: biodbNci_1.2.0.tar.gz PackageFileSize: 23.15 KiB