Package: biodbNci Version: 1.2.0 Command: F:\biocbuild\bbs-3.16-bioc\R\bin\R.exe CMD check --no-multiarch --test-dir=longtests --no-stop-on-test-error --no-codoc --no-examples --no-manual --ignore-vignettes --check-subdirs=no biodbNci_1.2.0.tar.gz StartedAt: 2023-04-15 08:09:12 -0400 (Sat, 15 Apr 2023) EndedAt: 2023-04-15 09:27:28 -0400 (Sat, 15 Apr 2023) EllapsedTime: 4696.2 seconds RetCode: 0 Status: OK CheckDir: biodbNci.Rcheck Warnings: 0