Package: biodbUniprot Version: 1.4.0 Command: /Library/Frameworks/R.framework/Resources/bin/R CMD build --keep-empty-dirs --no-resave-data --no-build-vignettes --no-manual biodbUniprot StartedAt: 2023-04-15 08:00:40 -0400 (Sat, 15 Apr 2023) EndedAt: 2023-04-15 08:01:01 -0400 (Sat, 15 Apr 2023) EllapsedTime: 21.8 seconds RetCode: 0 Status: OK PackageFile: biodbUniprot_1.4.0.tar.gz PackageFileSize: 120.3 KiB