Back to Long Tests report for BioC 3.16 |
This page was generated on 2023-04-15 21:30:02 -0400 (Sat, 15 Apr 2023).
Hostname | OS | Arch (*) | R version | Installed pkgs |
---|---|---|---|---|
nebbiolo2 | Linux (Ubuntu 20.04.5 LTS) | x86_64 | 4.2.3 (2023-03-15) -- "Shortstop Beagle" | 4502 |
palomino4 | Windows Server 2022 Datacenter | x64 | 4.2.3 (2023-03-15 ucrt) -- "Shortstop Beagle" | 4282 |
lconway | macOS 12.5.1 Monterey | x86_64 | 4.2.3 (2023-03-15) -- "Shortstop Beagle" | 4310 |
Click on any hostname to see more info about the system (e.g. compilers) (*) as reported by 'uname -p', except on Windows and Mac OS X |
To the developers/maintainers of the rhdf5 package: Make sure to use the following settings in order to reproduce any error or warning you see on this page. |
Package 25/28 | Hostname | OS / Arch | CHECK | |||||||
rhdf5 2.42.1 (landing page) Mike Smith
| nebbiolo2 | Linux (Ubuntu 20.04.5 LTS) / x86_64 | OK | |||||||
palomino4 | Windows Server 2022 Datacenter / x64 | OK | ||||||||
lconway | macOS 12.5.1 Monterey / x86_64 | OK | ||||||||
Package: rhdf5 |
Version: 2.42.1 |
Command: chmod a+r rhdf5 -R && F:\biocbuild\bbs-3.16-bioc\R\bin\R.exe CMD build --keep-empty-dirs --no-resave-data --no-build-vignettes --no-manual rhdf5 |
StartedAt: 2023-04-15 08:03:44 -0400 (Sat, 15 Apr 2023) |
EndedAt: 2023-04-15 08:04:21 -0400 (Sat, 15 Apr 2023) |
EllapsedTime: 36.8 seconds |
RetCode: 0 |
Status: OK |
PackageFile: rhdf5_2.42.1.tar.gz |
PackageFileSize: 394.9 KiB |
############################################################################## ############################################################################## ### ### Running command: ### ### chmod a+r rhdf5 -R && F:\biocbuild\bbs-3.16-bioc\R\bin\R.exe CMD build --keep-empty-dirs --no-resave-data --no-build-vignettes --no-manual rhdf5 ### ############################################################################## ############################################################################## * checking for file 'rhdf5/DESCRIPTION' ... OK * preparing 'rhdf5': * checking DESCRIPTION meta-information ... OK * cleaning src * running 'cleanup.win' * checking for LF line-endings in source and make files and shell scripts * checking for empty or unneeded directories * building 'rhdf5_2.42.1.tar.gz' Warning: file 'rhdf5/cleanup' did not have execute permissions: corrected Warning: file 'rhdf5/configure' did not have execute permissions: corrected