Package: rhdf5 Version: 2.42.1 Command: /home/biocbuild/bbs-3.16-bioc/R/bin/R CMD build --keep-empty-dirs --no-resave-data --no-build-vignettes --no-manual rhdf5 StartedAt: 2023-04-15 08:00:19 -0400 (Sat, 15 Apr 2023) EndedAt: 2023-04-15 08:00:20 -0400 (Sat, 15 Apr 2023) EllapsedTime: 0.6 seconds RetCode: 0 Status: OK PackageFile: rhdf5_2.42.1.tar.gz PackageFileSize: 395 KiB