Package: rhdf5 Version: 2.42.1 Command: chmod a+r rhdf5 -R && F:\biocbuild\bbs-3.16-bioc\R\bin\R.exe CMD build --keep-empty-dirs --no-resave-data --no-build-vignettes --no-manual rhdf5 StartedAt: 2023-04-15 08:03:44 -0400 (Sat, 15 Apr 2023) EndedAt: 2023-04-15 08:04:21 -0400 (Sat, 15 Apr 2023) EllapsedTime: 36.8 seconds RetCode: 0 Status: OK PackageFile: rhdf5_2.42.1.tar.gz PackageFileSize: 394.9 KiB