Package: zellkonverter Version: 1.8.0 Command: /Library/Frameworks/R.framework/Resources/bin/R CMD build --keep-empty-dirs --no-resave-data --no-build-vignettes --no-manual zellkonverter StartedAt: 2023-04-15 08:01:09 -0400 (Sat, 15 Apr 2023) EndedAt: 2023-04-15 08:01:31 -0400 (Sat, 15 Apr 2023) EllapsedTime: 21.9 seconds RetCode: 0 Status: OK PackageFile: zellkonverter_1.8.0.tar.gz PackageFileSize: 834.2 KiB