Package: zellkonverter Version: 1.8.0 Command: /home/biocbuild/bbs-3.16-bioc/R/bin/R CMD build --keep-empty-dirs --no-resave-data --no-build-vignettes --no-manual zellkonverter StartedAt: 2023-04-15 08:00:20 -0400 (Sat, 15 Apr 2023) EndedAt: 2023-04-15 08:00:21 -0400 (Sat, 15 Apr 2023) EllapsedTime: 1.0 seconds RetCode: 0 Status: OK PackageFile: zellkonverter_1.8.0.tar.gz PackageFileSize: 834.2 KiB