Package: zellkonverter Version: 1.8.0 Command: /home/biocbuild/bbs-3.16-bioc/R/bin/R CMD check --test-dir=longtests --no-stop-on-test-error --no-codoc --no-examples --no-manual --ignore-vignettes --check-subdirs=no zellkonverter_1.8.0.tar.gz StartedAt: 2023-04-15 08:30:12 -0400 (Sat, 15 Apr 2023) EndedAt: 2023-04-15 08:42:06 -0400 (Sat, 15 Apr 2023) EllapsedTime: 714.1 seconds RetCode: 0 Status: OK CheckDir: zellkonverter.Rcheck Warnings: 0