Package: zellkonverter Version: 1.8.0 Command: chmod a+r zellkonverter -R && F:\biocbuild\bbs-3.16-bioc\R\bin\R.exe CMD build --keep-empty-dirs --no-resave-data --no-build-vignettes --no-manual zellkonverter StartedAt: 2023-04-15 08:03:59 -0400 (Sat, 15 Apr 2023) EndedAt: 2023-04-15 08:04:36 -0400 (Sat, 15 Apr 2023) EllapsedTime: 36.7 seconds RetCode: 0 Status: OK PackageFile: zellkonverter_1.8.0.tar.gz PackageFileSize: 834.2 KiB