Package: ABSSeq Version: 1.52.0 Command: rm -rf ABSSeq.buildbin-libdir && mkdir ABSSeq.buildbin-libdir && /Users/biocbuild/BBS/utils/build-universal.sh ABSSeq_1.52.0.tar.gz /Library/Frameworks/R.framework/Resources/bin/R ABSSeq.buildbin-libdir StartedAt: 2023-04-18 13:26:55 -0400 (Tue, 18 Apr 2023) EndedAt: 2023-04-18 13:27:08 -0400 (Tue, 18 Apr 2023) EllapsedTime: 13.2 seconds RetCode: 0 Status: OK PackageFile: ABSSeq_1.52.0.tgz PackageFileSize: 1.307 MiB