Package: AGDEX Version: 1.46.0 Command: /Library/Frameworks/R.framework/Resources/bin/R CMD build --keep-empty-dirs --no-resave-data AGDEX StartedAt: 2023-04-16 19:26:00 -0400 (Sun, 16 Apr 2023) EndedAt: 2023-04-16 19:26:28 -0400 (Sun, 16 Apr 2023) EllapsedTime: 28.0 seconds RetCode: 0 Status: OK PackageFile: AGDEX_1.46.0.tar.gz PackageFileSize: 487.1 KiB