Package: ASEB Version: 1.42.0 Command: rm -rf ASEB.buildbin-libdir && mkdir ASEB.buildbin-libdir && /Users/biocbuild/BBS/utils/build-universal.sh ASEB_1.42.0.tar.gz /Library/Frameworks/R.framework/Resources/bin/R ASEB.buildbin-libdir StartedAt: 2023-04-18 13:38:16 -0400 (Tue, 18 Apr 2023) EndedAt: 2023-04-18 13:38:37 -0400 (Tue, 18 Apr 2023) EllapsedTime: 20.8 seconds RetCode: 0 Status: OK PackageFile: ASEB_1.42.0.tgz PackageFileSize: 764.6 KiB