Package: ASEB Version: 1.42.0 Command: /Library/Frameworks/R.framework/Resources/bin/R CMD INSTALL ASEB StartedAt: 2023-04-16 14:06:54 -0400 (Sun, 16 Apr 2023) EndedAt: 2023-04-16 14:07:04 -0400 (Sun, 16 Apr 2023) EllapsedTime: 9.5 seconds RetCode: 0 Status: OK